BEGIN:VCALENDAR
VERSION:2.0
PRODID:icalendar-ruby
CALSCALE:GREGORIAN
METHOD:PUBLISH
BEGIN:VEVENT
DTSTAMP:20260420T145039Z
UID:12-911765@metamorachurchofgod.com
DTSTART:20261021T230000Z
DTEND:20261022T003000Z
CLASS:PUBLIC
CREATED:20260420T094229
DESCRIPTION:Evening Youth Service\nService at 7:00 pm\nDrop off at 6:45 pm\
 ; Pick up at 8:30 pm\nImmediately following service we have Food\, Fellows
 hip and Fun! Each week a share a snack and engaging game or activity with 
 our youth! Come join in the FUN!\n(Bus Routes Run at 6:00 pm pick up / 8:3
 0 pm drop off) 
LAST-MODIFIED:20260420T094229
LOCATION:Metamora Church of God
SUMMARY:Youth Service
URL;VALUE=URI:https://www.metamorachurchofgod.com/events/youth-service--12/
 2026-10-21
END:VEVENT
END:VCALENDAR
