BEGIN:VCALENDAR
VERSION:2.0
PRODID:icalendar-ruby
CALSCALE:GREGORIAN
METHOD:PUBLISH
BEGIN:VEVENT
DTSTAMP:20260420T080457Z
UID:5-910419@metamorachurchofgod.com
DTSTART:20261101T153000Z
DTEND:20261101T170000Z
CLASS:PUBLIC
CREATED:20260420T020049
DESCRIPTION:
LAST-MODIFIED:20260420T020049
LOCATION:Metamora Church of God
SUMMARY:Sunday Service
URL;VALUE=URI:https://www.metamorachurchofgod.com/events/sunday-service/202
 6-11-01
END:VEVENT
END:VCALENDAR
