BEGIN:VCALENDAR
VERSION:2.0
PRODID:icalendar-ruby
CALSCALE:GREGORIAN
METHOD:PUBLISH
BEGIN:VEVENT
DTSTAMP:20260420T024952Z
UID:5-909876@metamorachurchofgod.com
DTSTART:20261011T143000Z
DTEND:20261011T160000Z
CLASS:PUBLIC
CREATED:20260419T222358
DESCRIPTION:
LAST-MODIFIED:20260419T222358
LOCATION:Metamora Church of God
SUMMARY:Sunday Service
URL;VALUE=URI:https://www.metamorachurchofgod.com/events/sunday-service/202
 6-10-11
END:VEVENT
END:VCALENDAR
