BEGIN:VCALENDAR
VERSION:2.0
PRODID:icalendar-ruby
CALSCALE:GREGORIAN
METHOD:PUBLISH
BEGIN:VEVENT
DTSTAMP:20260419T232630Z
UID:5-909334@metamorachurchofgod.com
DTSTART:20260927T143000Z
DTEND:20260927T160000Z
CLASS:PUBLIC
CREATED:20260419T184423
DESCRIPTION:
LAST-MODIFIED:20260419T184423
LOCATION:Metamora Church of God
SUMMARY:Sunday Service
URL;VALUE=URI:https://www.metamorachurchofgod.com/events/sunday-service/202
 6-09-27
END:VEVENT
END:VCALENDAR
