BEGIN:VCALENDAR
VERSION:2.0
PRODID:icalendar-ruby
CALSCALE:GREGORIAN
METHOD:PUBLISH
BEGIN:VEVENT
DTSTAMP:20260419T221017Z
UID:5-908793@metamorachurchofgod.com
DTSTART:20260920T143000Z
DTEND:20260920T160000Z
CLASS:PUBLIC
CREATED:20260419T150132
DESCRIPTION:
LAST-MODIFIED:20260419T150132
LOCATION:Metamora Church of God
SUMMARY:Sunday Service
URL;VALUE=URI:https://www.metamorachurchofgod.com/events/sunday-service/202
 6-09-20
END:VEVENT
END:VCALENDAR
