BEGIN:VCALENDAR
VERSION:2.0
PRODID:icalendar-ruby
CALSCALE:GREGORIAN
METHOD:PUBLISH
BEGIN:VEVENT
DTSTAMP:20260419T203548Z
UID:5-908792@metamorachurchofgod.com
DTSTART:20260913T143000Z
DTEND:20260913T160000Z
CLASS:PUBLIC
CREATED:20260419T150132
DESCRIPTION:
LAST-MODIFIED:20260419T150132
LOCATION:Metamora Church of God
SUMMARY:Sunday Service
URL;VALUE=URI:https://www.metamorachurchofgod.com/events/sunday-service/202
 6-09-13
END:VEVENT
END:VCALENDAR
